BEGIN:VCALENDAR
VERSION:2.0
PRODID:-//Library Market//iCal Export//EN
BEGIN:VEVENT
SUMMARY:Forever Succulents
UID:13348
DTSTAMP:20260421T023300Z
DTSTART:20260613T160000Z
DTEND:20260613T180000Z
LOCATION:East Moline Public Library, 745 16th Avenue, East Moline, IL 6124
 4, United States
ROOM: Geraldine A. Baecke Meeting Center
DESCRIPTION:Stop by to create a &quot;forever succulent&quot; with beads. 
 All supplies will be provided.
URL:https://eastmoline.librarycalendar.com/event/forever-succulents-13348
END:VEVENT
END:VCALENDAR
