BEGIN:VCALENDAR
VERSION:2.0
PRODID:-//Library Market//iCal Export//EN
BEGIN:VEVENT
SUMMARY:Fall Harvest
UID:14523
DTSTAMP:20260419T225400Z
DTSTART:20260917T220000Z
DTEND:20260917T233000Z
LOCATION:East Moline Public Library, 745 16th Avenue, East Moline, IL 6124
 4, United States
ROOM: Geraldine A. Baecke Meeting Center
DESCRIPTION:Join Narratives QC at the East Moline Public Library for a spe
 cial fall event for ages 17-29. We&#039;ll create trees identifying what h
 as fallen and what we&#039;ve gained so far, as well as intentionally iden
 tify the roots we can create as winter approaches. Let&#039;s get creative
  and grounded in the majesty of fall. All supplies will be provided.
URL:https://eastmoline.librarycalendar.com/event/fall-harvest-14523
END:VEVENT
END:VCALENDAR
