BEGIN:VCALENDAR
VERSION:2.0
PRODID:-//Library Market//iCal Export//EN
BEGIN:VEVENT
SUMMARY:Euchre Club
UID:14554
DTSTAMP:20260419T225400Z
DTSTART:20260626T193000Z
DTEND:20260626T213000Z
LOCATION:East Moline Public Library, 745 16th Avenue, East Moline, IL 6124
 4, United States
ROOM: Small Study Room
DESCRIPTION:Join us every Friday afternoon to play Euchre! If you don&#039
 ;t know how to play, someone will be available to teach you.
URL:https://eastmoline.librarycalendar.com/event/euchre-club-14554
END:VEVENT
END:VCALENDAR
