BEGIN:VCALENDAR
VERSION:2.0
PRODID:-//Library Market//iCal Export//EN
BEGIN:VEVENT
SUMMARY:Canva Basics Class
UID:14585
DTSTAMP:20260420T205500Z
DTSTART:20260620T050000Z
DTEND:20260620T190000Z
LOCATION:East Moline Public Library, 745 16th Avenue, East Moline, IL 6124
 4, United States
ROOM: Geraldine A. Baecke Meeting Center A
DESCRIPTION:Get started with Canva in this beginner-friendly class! Learn 
 how to create eye-catching graphics, customize templates, add text and ima
 ges, and design like a pro - no experience needed. Perfect for creating fl
 yers, social media posts, and more. We recommend bringing your own laptop
  or tablet if possible, as only a limited number of devices will be availa
 ble.
URL:https://eastmoline.librarycalendar.com/event/canva-basics-14585
END:VEVENT
END:VCALENDAR
