BEGIN:VCALENDAR
VERSION:2.0
PRODID:-//Library Market//iCal Export//EN
BEGIN:VEVENT
SUMMARY:Cricut Garden Flags
UID:14588
DTSTAMP:20260419T225400Z
DTSTART:20260725T160000Z
DTEND:20260725T190000Z
LOCATION:East Moline Public Library, 745 16th Avenue, East Moline, IL 6124
 4, United States
ROOM: Geraldine A. Baecke Meeting Center A
DESCRIPTION:
URL:https://eastmoline.librarycalendar.com/event/cricut-garden-flags-14588
END:VEVENT
END:VCALENDAR
