BEGIN:VCALENDAR
VERSION:2.0
PRODID:-//Library Market//iCal Export//EN
BEGIN:VEVENT
SUMMARY:Builders Club
UID:14591
DTSTAMP:20260419T225400Z
DTSTART:20260617T180000Z
DTEND:20260617T190000Z
LOCATION:East Moline Public Library, 745 16th Avenue, East Moline, IL 6124
 4, United States
ROOM: Builders Club
DESCRIPTION:Stop by and build something awesome! We will have LEGOs and ot
 her building blocks for kids to play with.
URL:https://eastmoline.librarycalendar.com/event/builders-club-14591
END:VEVENT
END:VCALENDAR
